BEGIN:VCALENDAR
VERSION:2.0
PRODID:-//Eventin//Event Calendar//EN
CALSCALE:GREGORIAN
METHOD:PUBLISH
BEGIN:VEVENT
UID:41772ab0a4d8acdc547ed7e59d727eea@genille.fr
SUMMARY:FEST OFF
DESCRIPTION:Le "FEST OFF" se déroulera le samedi 29 juin 2024 à la salle 
 Rosine Deréan de 14h30 à 19h00.\n\n\n\nVoir programme.
LOCATION:Online
DTSTAMP:20260423T164545Z
DTSTART:20240629T123000Z
DTEND:20260423T170000Z
END:VEVENT
END:VCALENDAR
