BEGIN:VCALENDAR
VERSION:2.0
PRODID:-//Eventin//Event Calendar//EN
CALSCALE:GREGORIAN
METHOD:PUBLISH
BEGIN:VEVENT
UID:effebd6955768f6fc2604c59feb8d9f0@genille.fr
SUMMARY:Animation Jeux de société Médiathèque
DESCRIPTION:La Médiathèque Prosper Blanvillain vous propose une "Animatio
 n Jeux de société" pour tous le Samedi 29 juin de 14h​00 à 17h00.
LOCATION:Online
DTSTAMP:20260421T131441Z
DTSTART:20240629T120000Z
DTEND:20260421T150000Z
END:VEVENT
END:VCALENDAR
