BEGIN:VCALENDAR
VERSION:2.0
PRODID:-//Eventin//Event Calendar//EN
CALSCALE:GREGORIAN
METHOD:PUBLISH
BEGIN:VEVENT
UID:a320f14affbe09a0dba2dd828df648b3@genille.fr
SUMMARY:Atelier numérique
DESCRIPTION:France Services organise un "Atelier numérique" le Vendredi
  17 mai 2024 de 14h30 à 16h30 à la Salle pour Tous\, Place Ferdinand Ra
 oult Duval sur le thème :\n\n\n\n"Créer un album photo en ligne"\n\n\n\nG
 ratuit\, sur réservation au 07.85.93.89.38 ou 07.85.68.18.99.
LOCATION:Online
DTSTAMP:20260422T082019Z
DTSTART:20240517T123000Z
DTEND:20260422T143000Z
END:VEVENT
END:VCALENDAR
