BEGIN:VCALENDAR
VERSION:2.0
PRODID:-//Eventin//Event Calendar//EN
CALSCALE:GREGORIAN
METHOD:PUBLISH
BEGIN:VEVENT
UID:2bf972b02303358715709dafcea6610f@genille.fr
SUMMARY:Soirée discussion et échange de lectures
DESCRIPTION:"Le Serpentin" organise un "soirée de discussion et d'échang
 e" autour d'un livre ou d'une Bande déssinée apporté par chacun des
  participants le vendredi 22 mars à 20h00.
LOCATION:Online
DTSTAMP:20260422T123241Z
DTSTART:20240322T190000Z
DTEND:20260422T123241Z
END:VEVENT
END:VCALENDAR
