BEGIN:VCALENDAR
VERSION:2.0
PRODID:-//Eventin//Event Calendar//EN
CALSCALE:GREGORIAN
METHOD:PUBLISH
BEGIN:VEVENT
UID:0fe8ee54b0457e25cf7aa4f910afa5bb@genille.fr
SUMMARY:Atelier TRICOT
DESCRIPTION:Le café associatif "Le Serpentin" organise un "Atelier TRICOT"
  (crochet\, point de croix).\n\n\n\nLe mercredi 17 janvier de 14h30 à 16h0
 0.\n\n\n\nOuvert à tous.
LOCATION:Online
DTSTAMP:20260423T022552Z
DTSTART:20240117T133000Z
DTEND:20260423T022552Z
END:VEVENT
END:VCALENDAR
