BEGIN:VCALENDAR
VERSION:2.0
PRODID:-//Eventin//Event Calendar//EN
CALSCALE:GREGORIAN
METHOD:PUBLISH
BEGIN:VEVENT
UID:6c6cd228d1f0232ed1340623e7bc6a7d@genille.fr
SUMMARY:Concert familial de Noël
DESCRIPTION:Un concert familial se déroulera le samedi 23 décembre 2023 
 à 16h à l'église de Genillé.
LOCATION:Online
DTSTAMP:20260421T082048Z
DTSTART:20231223T150000Z
DTEND:20260421T082048Z
END:VEVENT
END:VCALENDAR
