BEGIN:VCALENDAR
VERSION:2.0
PRODID:-//Eventin//Event Calendar//EN
CALSCALE:GREGORIAN
METHOD:PUBLISH
BEGIN:VEVENT
UID:32d2066a652e22049c7401ff02074783@genille.fr
SUMMARY:LAND'ART avec Jeff
DESCRIPTION:Le café associatif\, Le Serpentin organise l'animation "Land'A
 rt le mercredi 25 Octobre à 15h.\n\n\n\nA partir de 7 ans.\n\n\n\nContact 
 : 06.75.08.01.57
LOCATION:Online
DTSTAMP:20260422T174306Z
DTSTART:20231025T130000Z
DTEND:20260422T143000Z
END:VEVENT
END:VCALENDAR
